BEGIN:VCALENDAR
PRODID:-//eluceo/ical//2.0/EN
VERSION:2.0
CALSCALE:GREGORIAN
BEGIN:VEVENT
UID:404043
DTSTAMP:20260424T195047Z
SUMMARY:Nurse Beginnings Sim
DESCRIPTION:Course Name: Nurse Beginnings Simulation\, Location: PSV PSV PS
 V-LAB 1\, More Information: https://wiser.simmetrics.net/courseInstance/ev
 ents/event-dashboard/404043
URL:https://wiser.simmetrics.net/courseInstance/events/event-dashboard/4040
 43
DTSTART:20260714T143000
DTEND:20260714T163000
LOCATION:9100 Babcock Blvd.\, Pittsburgh\, PA 15237
END:VEVENT
BEGIN:VTIMEZONE
TZID:America/New_York
BEGIN:DAYLIGHT
DTSTART:20260714T143000
TZNAME:EDT
TZOFFSETTO:-0400
TZOFFSETFROM:-0400
END:DAYLIGHT
END:VTIMEZONE
END:VCALENDAR
